BEGIN:VCALENDAR
VERSION:2.0
PRODID:-//Polska Sobotnia Szkoła w Watford - ECPv6.11.2//NONSGML v1.0//EN
CALSCALE:GREGORIAN
METHOD:PUBLISH
X-WR-CALNAME:Polska Sobotnia Szkoła w Watford
X-ORIGINAL-URL:https://polskaszkola-watford.org
X-WR-CALDESC:Events for Polska Sobotnia Szkoła w Watford
REFRESH-INTERVAL;VALUE=DURATION:PT1H
X-Robots-Tag:noindex
X-PUBLISHED-TTL:PT1H
BEGIN:VTIMEZONE
TZID:UTC
BEGIN:STANDARD
TZOFFSETFROM:+0000
TZOFFSETTO:+0000
TZNAME:UTC
DTSTART:20240101T000000
END:STANDARD
END:VTIMEZONE
BEGIN:VEVENT
DTSTART;VALUE=DATE:20250531
DTEND;VALUE=DATE:20250601
DTSTAMP:20260422T104858
CREATED:20241006T162400Z
LAST-MODIFIED:20241006T162400Z
UID:239062-1748649600-1748735999@polskaszkola-watford.org
SUMMARY:Half-term nie ma zajęć dla dzieci
DESCRIPTION:
URL:https://polskaszkola-watford.org/kalendarz/31-05-2025/
CATEGORIES:Przerwa świąteczna
END:VEVENT
BEGIN:VEVENT
DTSTART;VALUE=DATE:20250524
DTEND;VALUE=DATE:20250525
DTSTAMP:20260422T104858
CREATED:20241006T162309Z
LAST-MODIFIED:20241006T162309Z
UID:239060-1748044800-1748131199@polskaszkola-watford.org
SUMMARY:Half-term nie ma zajęć dla dzieci
DESCRIPTION:
URL:https://polskaszkola-watford.org/kalendarz/24-05-2025/
CATEGORIES:Przerwa świąteczna
END:VEVENT
BEGIN:VEVENT
DTSTART;VALUE=DATE:20250419
DTEND;VALUE=DATE:20250420
DTSTAMP:20260422T104858
CREATED:20241006T160758Z
LAST-MODIFIED:20241006T161324Z
UID:239050-1745020800-1745107199@polskaszkola-watford.org
SUMMARY:Przerwa świąteczna\, nie ma zajęć dla dzieci
DESCRIPTION:
URL:https://polskaszkola-watford.org/kalendarz/19-04-2025/
CATEGORIES:Przerwa świąteczna
END:VEVENT
BEGIN:VEVENT
DTSTART;VALUE=DATE:20250412
DTEND;VALUE=DATE:20250413
DTSTAMP:20260422T104858
CREATED:20241006T160628Z
LAST-MODIFIED:20241006T160628Z
UID:239048-1744416000-1744502399@polskaszkola-watford.org
SUMMARY:Przerwa świąteczna\, nie ma zajęć dla dzieci
DESCRIPTION:
URL:https://polskaszkola-watford.org/kalendarz/12-04-2025/
CATEGORIES:Przerwa świąteczna
END:VEVENT
BEGIN:VEVENT
DTSTART;VALUE=DATE:20250405
DTEND;VALUE=DATE:20250406
DTSTAMP:20260422T104858
CREATED:20241006T160558Z
LAST-MODIFIED:20241006T160558Z
UID:239046-1743811200-1743897599@polskaszkola-watford.org
SUMMARY:Przerwa świąteczna\, nie ma zajęć dla dzieci
DESCRIPTION:
URL:https://polskaszkola-watford.org/kalendarz/05-04-2025/
CATEGORIES:Przerwa świąteczna
END:VEVENT
BEGIN:VEVENT
DTSTART;VALUE=DATE:20250222
DTEND;VALUE=DATE:20250223
DTSTAMP:20260422T104858
CREATED:20241006T160149Z
LAST-MODIFIED:20241006T160149Z
UID:239031-1740182400-1740268799@polskaszkola-watford.org
SUMMARY:Half-term nie ma zajęć dla dzieci
DESCRIPTION:
URL:https://polskaszkola-watford.org/kalendarz/22-02-2025/
CATEGORIES:Przerwa świąteczna
END:VEVENT
BEGIN:VEVENT
DTSTART;VALUE=DATE:20250104
DTEND;VALUE=DATE:20250105
DTSTAMP:20260422T104858
CREATED:20241006T154748Z
LAST-MODIFIED:20241006T154748Z
UID:239017-1735948800-1736035199@polskaszkola-watford.org
SUMMARY:Przerwa świąteczna\, nie ma zajęć dla dzieci
DESCRIPTION:
URL:https://polskaszkola-watford.org/kalendarz/04-01-2025/
CATEGORIES:Przerwa świąteczna
END:VEVENT
BEGIN:VEVENT
DTSTART;VALUE=DATE:20241228
DTEND;VALUE=DATE:20241229
DTSTAMP:20260422T104858
CREATED:20241006T154647Z
LAST-MODIFIED:20241006T154647Z
UID:239015-1735344000-1735430399@polskaszkola-watford.org
SUMMARY:Przerwa świąteczna\, nie ma zajęć dla dzieci
DESCRIPTION:
URL:https://polskaszkola-watford.org/kalendarz/28-12-2024/
CATEGORIES:Przerwa świąteczna
END:VEVENT
BEGIN:VEVENT
DTSTART;VALUE=DATE:20241221
DTEND;VALUE=DATE:20241222
DTSTAMP:20260422T104858
CREATED:20241006T154617Z
LAST-MODIFIED:20241006T154617Z
UID:239013-1734739200-1734825599@polskaszkola-watford.org
SUMMARY:Przerwa świąteczna\, nie ma zajęć dla dzieci
DESCRIPTION:
URL:https://polskaszkola-watford.org/kalendarz/21-12-2024/
CATEGORIES:Przerwa świąteczna
END:VEVENT
END:VCALENDAR